BEGIN:VCALENDAR
VERSION:2.0
PRODID:https://www.jengen.de/
METHOD:PUBLISH
BEGIN:VEVENT
UID:event-8425@www.jengen.de
LOCATION:Pfarrhof Eurishofen
SUMMARY:Jahresversammlung der Jagdgenossenschaft Eurishofen
DESCRIPTION:
CLASS:PUBLIC
DTSTART;TZID="(GMT+01.00) Amsterdam / Berlin / Bern / Rome / Stockholm / Vienna":20260424T200000
DTEND;TZID="(GMT+01.00) Amsterdam / Berlin / Bern / Rome / Stockholm / Vienna":
DTSTAMP;TZID="(GMT+01.00) Amsterdam / Berlin / Bern / Rome / Stockholm / Vienna":20260402T193434
END:VEVENT
END:VCALENDAR
