BEGIN:VCALENDAR
VERSION:2.0
PRODID:https://www.jengen.de/
METHOD:PUBLISH
BEGIN:VEVENT
UID:event-8438@www.jengen.de
LOCATION:Alp Villa in Buchloe 
SUMMARY:Tanznachmittag in der Alp Villa 
DESCRIPTION:
CLASS:PUBLIC
DTSTART;TZID="(GMT+01.00) Amsterdam / Berlin / Bern / Rome / Stockholm / Vienna":20260512T140000
DTEND;TZID="(GMT+01.00) Amsterdam / Berlin / Bern / Rome / Stockholm / Vienna":20260512T180000
DTSTAMP;TZID="(GMT+01.00) Amsterdam / Berlin / Bern / Rome / Stockholm / Vienna":20260420T101804
END:VEVENT
END:VCALENDAR
